BEGIN:VCALENDAR
VERSION:2.0
PRODID:-//wp-events-plugin.com//7.2.3.1//EN
TZID:Europe/Berlin
X-WR-TIMEZONE:Europe/Berlin
BEGIN:VEVENT
UID:24@burgfruende-rothenburg.ch
DTSTART;TZID=Europe/Berlin:20231111T200000
DTEND;TZID=Europe/Berlin:20231111T200000
DTSTAMP:20230919T185421Z
URL:https://www.burgfruende-rothenburg.ch/events/gastauftritt-am-jahreskon
 zert-jk-escholzmatt/
SUMMARY:Gastauftritt am Jahreskonzert JK Escholzmatt
DESCRIPTION:
END:VEVENT
BEGIN:VTIMEZONE
TZID:Europe/Berlin
X-LIC-LOCATION:Europe/Berlin
BEGIN:STANDARD
DTSTART:20231029T020000
TZOFFSETFROM:+0200
TZOFFSETTO:+0100
TZNAME:CET
END:STANDARD
END:VTIMEZONE
END:VCALENDAR